BEGIN:VCALENDAR
VERSION:2.0
PRODID:icalendar-ruby
CALSCALE:GREGORIAN
METHOD:PUBLISH
BEGIN:VEVENT
DTSTAMP:20260421T144552Z
UID:7-268435@wheatlandavenuerolcc.org
DTSTART:20260707T170000Z
DTEND:20260707T180000Z
CLASS:PUBLIC
CREATED:20260305T072446
DESCRIPTION:Bible Study
LAST-MODIFIED:20260305T072446
LOCATION:River of Life Christian Church
SUMMARY:Bible Study
URL;VALUE=URI:https://wheatlandavenuerolcc.org/events/bible-study/2026-07-0
 7
END:VEVENT
END:VCALENDAR
