BEGIN:VCALENDAR
VERSION:2.0
PRODID:icalendar-ruby
CALSCALE:GREGORIAN
METHOD:PUBLISH
BEGIN:VEVENT
DTSTAMP:20260422T003037Z
UID:7-268441@wheatlandavenuerolcc.org
DTSTART:20260818T170000Z
DTEND:20260818T180000Z
CLASS:PUBLIC
CREATED:20260305T072446
DESCRIPTION:Bible Study
LAST-MODIFIED:20260305T072446
LOCATION:River of Life Christian Church
SUMMARY:Bible Study
URL;VALUE=URI:https://wheatlandavenuerolcc.org/events/bible-study/2026-08-1
 8
END:VEVENT
END:VCALENDAR
