BEGIN:VCALENDAR
VERSION:2.0
PRODID:icalendar-ruby
CALSCALE:GREGORIAN
METHOD:PUBLISH
BEGIN:VEVENT
DTSTAMP:20260422T052016Z
UID:7-268444@wheatlandavenuerolcc.org
DTSTART:20260908T170000Z
DTEND:20260908T180000Z
CLASS:PUBLIC
CREATED:20260305T072447
DESCRIPTION:Bible Study
LAST-MODIFIED:20260305T072447
LOCATION:River of Life Christian Church
SUMMARY:Bible Study
URL;VALUE=URI:https://wheatlandavenuerolcc.org/events/bible-study/2026-09-0
 8
END:VEVENT
END:VCALENDAR
